BEGIN:VCALENDAR
VERSION:2.0
PRODID:-//BOFIN - ECPv6.15.20//NONSGML v1.0//EN
CALSCALE:GREGORIAN
METHOD:PUBLISH
X-ORIGINAL-URL:https://bofin.org.uk
X-WR-CALDESC:Events for BOFIN
REFRESH-INTERVAL;VALUE=DURATION:PT1H
X-Robots-Tag:noindex
X-PUBLISHED-TTL:PT1H
BEGIN:VTIMEZONE
TZID:UTC
BEGIN:STANDARD
TZOFFSETFROM:+0000
TZOFFSETTO:+0000
TZNAME:UTC
DTSTART:20240101T000000
END:STANDARD
END:VTIMEZONE
BEGIN:VEVENT
DTSTART;VALUE=DATE:20250611
DTEND;VALUE=DATE:20250613
DTSTAMP:20260421T015404
CREATED:20241101T140807Z
LAST-MODIFIED:20250212T145533Z
UID:2893-1749600000-1749772799@bofin.org.uk
SUMMARY:Cereals Arable Event
DESCRIPTION:Cereals Arable Event \nWednesday 11th June 2025  – 8:00AM-5:00PM \nThursday 12th June 2025 – 8:00AM-4:00PM \nHeath Farm\, Leadenham\, Lincolnshire LN5 0QE \nExperience the ultimate event for the UK arable industry at Cereals. Connect with over 450 leading suppliers showcasing the latest innovations\, products\, and expert advice. From seeds to sprayers\, crop varieties to cutting-edge equipment\, and fertiliser to finance\, Cereals offers a complete one-stop solution. Explore live demonstrations and dedicated zones for agronomy\, technology\, machinery\, business\, education\, sustainability\, and diversification – all designed to help you grow your business and your crops. \nUse our exclusive discount code for 50% OFF – I4ZK5X \nSecure tickets here
URL:https://bofin.org.uk/event/cereals/
LOCATION:Heath Farm\, Leadenham\, Lincolnshire LN5 0QE\, Heath Farm\, Leadenham\, Lincolnshire\, LN5 0QE
END:VEVENT
END:VCALENDAR